BEGIN:VCALENDAR
VERSION:2.0
PRODID:-//Ceaux-en-Loudun - ECPv5.5.0.1//NONSGML v1.0//EN
CALSCALE:GREGORIAN
METHOD:PUBLISH
X-WR-CALNAME:Ceaux-en-Loudun
X-ORIGINAL-URL:https://ceauxenloudun.fr
X-WR-CALDESC:évènements pour Ceaux-en-Loudun
BEGIN:VTIMEZONE
TZID:Europe/Paris
BEGIN:DAYLIGHT
TZOFFSETFROM:+0100
TZOFFSETTO:+0200
TZNAME:CEST
DTSTART:20250330T010000
END:DAYLIGHT
BEGIN:STANDARD
TZOFFSETFROM:+0200
TZOFFSETTO:+0100
TZNAME:CET
DTSTART:20251026T010000
END:STANDARD
END:VTIMEZONE
BEGIN:VEVENT
DTSTART;TZID=Europe/Paris:20250423T100000
DTEND;TZID=Europe/Paris:20250423T123000
DTSTAMP:20260422T000423
CREATED:20250405T115545Z
LAST-MODIFIED:20250405T115551Z
UID:2064-1745402400-1745411400@ceauxenloudun.fr
SUMMARY:Inscription à l'école des enfants nés en 2022
DESCRIPTION:Affiche Inscription école \nInscription des enfants nés en 2022 pour l’école Théophraste Renaudot de Ceaux en Loudun : \n\nle jeudi 3 avril à la mairie de 16h30 à 18h30\nle mercredi 23 avril à la mairie de 10h à 12h30.
URL:https://ceauxenloudun.fr/event/inscription-a-lecole-des-enfants-nes-en-2022/
LOCATION:place de la mairie\, CEAUX EN LOUDUN\, 86200\, France
END:VEVENT
END:VCALENDAR