BEGIN:VCALENDAR
VERSION:2.0
PRODID:-//Ceaux-en-Loudun - ECPv5.5.0.1//NONSGML v1.0//EN
CALSCALE:GREGORIAN
METHOD:PUBLISH
X-WR-CALNAME:Ceaux-en-Loudun
X-ORIGINAL-URL:https://ceauxenloudun.fr
X-WR-CALDESC:évènements pour Ceaux-en-Loudun
BEGIN:VTIMEZONE
TZID:Europe/Paris
BEGIN:DAYLIGHT
TZOFFSETFROM:+0100
TZOFFSETTO:+0200
TZNAME:CEST
DTSTART:20260329T010000
END:DAYLIGHT
BEGIN:STANDARD
TZOFFSETFROM:+0200
TZOFFSETTO:+0100
TZNAME:CET
DTSTART:20261025T010000
END:STANDARD
END:VTIMEZONE
BEGIN:VEVENT
DTSTART;VALUE=DATE:20260508
DTEND;VALUE=DATE:20260509
DTSTAMP:20260424T132053
CREATED:20260424T070906Z
LAST-MODIFIED:20260424T070946Z
UID:2406-1778198400-1778284799@ceauxenloudun.fr
SUMMARY:8 mai 2026
DESCRIPTION:
URL:https://ceauxenloudun.fr/event/8-mai-2026/
LOCATION:Salle des fêtes – Ceaux en Loudun\, rue de la mairie\, Ceaux en Loudun\, 86200\, France
END:VEVENT
END:VCALENDAR